Package: easyreporting Version: 1.22.0 Command: /home/biocbuild/R/R/bin/R CMD INSTALL easyreporting StartedAt: 2025-11-13 21:10:40 -0000 (Thu, 13 Nov 2025) EndedAt: 2025-11-13 21:11:16 -0000 (Thu, 13 Nov 2025) EllapsedTime: 36.3 seconds RetCode: 0 Status: OK