Package: easyreporting Version: 1.21.0 Command: /home/biocbuild/bbs-3.22-bioc/R/bin/R CMD INSTALL easyreporting StartedAt: 2025-10-24 15:18:01 -0400 (Fri, 24 Oct 2025) EndedAt: 2025-10-24 15:18:19 -0400 (Fri, 24 Oct 2025) EllapsedTime: 18.2 seconds RetCode: 0 Status: OK