Package: easyreporting Version: 1.21.0 Maintainer: Dario Righelli MaintainerEmail: dario.righelli at gmail.com git_url: https://git.bioconductor.org/packages/easyreporting git_branch: devel git_last_commit: 46482e0 git_last_commit_date: 2025-04-15 11:53:25 -0400 (Tue, 15 Apr 2025)