Package: easylift Version: 1.7.0 Command: /home/biocbuild/bbs-3.22-bioc/R/bin/R CMD INSTALL easylift StartedAt: 2025-10-27 15:36:45 -0400 (Mon, 27 Oct 2025) EndedAt: 2025-10-27 15:37:18 -0400 (Mon, 27 Oct 2025) EllapsedTime: 32.8 seconds RetCode: 0 Status: OK