Package: easylift Version: 1.7.0 Command: /home/biocbuild/bbs-3.22-bioc/R/bin/R CMD build --keep-empty-dirs --no-resave-data --md5 easylift StartedAt: 2025-10-24 17:36:24 -0400 (Fri, 24 Oct 2025) EndedAt: 2025-10-24 17:37:10 -0400 (Fri, 24 Oct 2025) EllapsedTime: 46.0 seconds RetCode: 0 Status: OK PackageFile: easylift_1.7.0.tar.gz PackageFileSize: 674.1 KiB