Package: easyRNASeq Version: 2.46.0 Command: /Library/Frameworks/R.framework/Resources/bin/R CMD build --keep-empty-dirs --no-resave-data easyRNASeq StartedAt: 2025-11-03 16:53:55 -0500 (Mon, 03 Nov 2025) EndedAt: 2025-11-03 16:58:25 -0500 (Mon, 03 Nov 2025) EllapsedTime: 270.0 seconds RetCode: 0 Status: OK PackageFile: easyRNASeq_2.46.0.tar.gz PackageFileSize: 69.55 MiB