Package: easyRNASeq Version: 2.45.1 Command: /Library/Frameworks/R.framework/Resources/bin/R CMD INSTALL easyRNASeq StartedAt: 2025-10-24 15:29:31 -0400 (Fri, 24 Oct 2025) EndedAt: 2025-10-24 15:29:49 -0400 (Fri, 24 Oct 2025) EllapsedTime: 17.9 seconds RetCode: 0 Status: OK