Package: easyRNASeq Version: 2.45.1 Command: /Library/Frameworks/R.framework/Resources/bin/R CMD build --keep-empty-dirs --no-resave-data easyRNASeq StartedAt: 2025-10-24 16:19:44 -0400 (Fri, 24 Oct 2025) EndedAt: 2025-10-24 16:21:44 -0400 (Fri, 24 Oct 2025) EllapsedTime: 119.3 seconds RetCode: 0 Status: OK PackageFile: easyRNASeq_2.45.1.tar.gz PackageFileSize: 69.55 MiB