Package: easyRNASeq Version: 2.46.0 Maintainer: Nicolas Delhomme MaintainerEmail: nicolas.delhomme at umu.se git_url: https://git.bioconductor.org/packages/easyRNASeq git_branch: RELEASE_3_22 git_last_commit: e268573 git_last_commit_date: 2025-10-29 10:10:00 -0500 (Wed, 29 Oct 2025)