Package: easier Version: 1.15.0 Command: /home/biocbuild/bbs-3.22-bioc/R/bin/R CMD INSTALL easier StartedAt: 2025-10-24 15:41:41 -0400 (Fri, 24 Oct 2025) EndedAt: 2025-10-24 15:42:14 -0400 (Fri, 24 Oct 2025) EllapsedTime: 33.0 seconds RetCode: 0 Status: OK