Package: easier Version: 1.16.0 Command: /Library/Frameworks/R.framework/Resources/bin/R CMD build --keep-empty-dirs --no-resave-data easier StartedAt: 2025-11-03 16:53:22 -0500 (Mon, 03 Nov 2025) EndedAt: 2025-11-03 17:00:12 -0500 (Mon, 03 Nov 2025) EllapsedTime: 410.5 seconds RetCode: 0 Status: OK PackageFile: easier_1.16.0.tar.gz PackageFileSize: 3.678 MiB