Package: easier Version: 1.15.0 Command: /Library/Frameworks/R.framework/Resources/bin/R CMD build --keep-empty-dirs --no-resave-data easier StartedAt: 2025-10-24 16:19:29 -0400 (Fri, 24 Oct 2025) EndedAt: 2025-10-24 16:21:51 -0400 (Fri, 24 Oct 2025) EllapsedTime: 141.6 seconds RetCode: 0 Status: OK PackageFile: easier_1.15.0.tar.gz PackageFileSize: 3.68 MiB