Package: easier Version: 1.15.0 Command: rm -rf easier.buildbin-libdir && mkdir easier.buildbin-libdir && /Users/biocbuild/BBS/utils/build-universal.sh easier_1.15.0.tar.gz /Library/Frameworks/R.framework/Resources/bin/R easier.buildbin-libdir StartedAt: 2025-10-24 23:01:37 -0400 (Fri, 24 Oct 2025) EndedAt: 2025-10-24 23:01:52 -0400 (Fri, 24 Oct 2025) EllapsedTime: 15.3 seconds RetCode: 0 Status: OK PackageFile: easier_1.15.0.tgz PackageFileSize: 2.891 MiB