Package: easier Version: 1.16.0 Maintainer: Oscar Lapuente-Santana MaintainerEmail: o.lapuente.santana at tue.nl git_url: https://git.bioconductor.org/packages/easier git_branch: RELEASE_3_22 git_last_commit: 7e059da git_last_commit_date: 2025-10-29 11:13:51 -0400 (Wed, 29 Oct 2025)