Package: dupRadar Version: 1.39.1 Command: /home/biocbuild/bbs-3.22-bioc/R/bin/R CMD build --keep-empty-dirs --no-resave-data --md5 dupRadar StartedAt: 2025-10-27 17:27:15 -0400 (Mon, 27 Oct 2025) EndedAt: 2025-10-27 17:27:50 -0400 (Mon, 27 Oct 2025) EllapsedTime: 34.0 seconds RetCode: 0 Status: OK PackageFile: dupRadar_1.39.1.tar.gz PackageFileSize: 4.143 MiB