Package: dupRadar Version: 1.40.0 Command: /Library/Frameworks/R.framework/Resources/bin/R CMD build --keep-empty-dirs --no-resave-data dupRadar StartedAt: 2025-11-03 16:53:19 -0500 (Mon, 03 Nov 2025) EndedAt: 2025-11-03 16:54:02 -0500 (Mon, 03 Nov 2025) EllapsedTime: 42.3 seconds RetCode: 0 Status: OK PackageFile: dupRadar_1.40.0.tar.gz PackageFileSize: 3.867 MiB