Package: dupRadar Version: 1.40.0 Command: rm -rf dupRadar.buildbin-libdir && mkdir dupRadar.buildbin-libdir && /Users/biocbuild/BBS/utils/build-universal.sh dupRadar_1.40.0.tar.gz /Library/Frameworks/R.framework/Resources/bin/R dupRadar.buildbin-libdir StartedAt: 2025-11-04 01:38:17 -0500 (Tue, 04 Nov 2025) EndedAt: 2025-11-04 01:38:29 -0500 (Tue, 04 Nov 2025) EllapsedTime: 11.5 seconds RetCode: 0 Status: OK PackageFile: dupRadar_1.40.0.tgz PackageFileSize: 4.83 MiB