Package: dupRadar Version: 1.39.1 Command: /Library/Frameworks/R.framework/Resources/bin/R CMD INSTALL dupRadar StartedAt: 2025-10-24 15:05:50 -0400 (Fri, 24 Oct 2025) EndedAt: 2025-10-24 15:05:55 -0400 (Fri, 24 Oct 2025) EllapsedTime: 4.7 seconds RetCode: 0 Status: OK