Package: dupRadar Version: 1.39.1 Command: /Library/Frameworks/R.framework/Resources/bin/R CMD build --keep-empty-dirs --no-resave-data dupRadar StartedAt: 2025-10-24 16:19:24 -0400 (Fri, 24 Oct 2025) EndedAt: 2025-10-24 16:19:40 -0400 (Fri, 24 Oct 2025) EllapsedTime: 16.2 seconds RetCode: 0 Status: OK PackageFile: dupRadar_1.39.1.tar.gz PackageFileSize: 3.861 MiB