Package: dreamlet Version: 1.8.0 Command: /Library/Frameworks/R.framework/Resources/bin/R CMD build --keep-empty-dirs --no-resave-data dreamlet StartedAt: 2025-10-31 16:19:53 -0400 (Fri, 31 Oct 2025) EndedAt: 2025-10-31 16:22:33 -0400 (Fri, 31 Oct 2025) EllapsedTime: 160.8 seconds RetCode: 0 Status: OK PackageFile: dreamlet_1.8.0.tar.gz PackageFileSize: 4.434 MiB