Package: doubletrouble Version: 1.10.0 Command: /Library/Frameworks/R.framework/Resources/bin/R CMD INSTALL doubletrouble StartedAt: 2025-11-02 15:50:14 -0500 (Sun, 02 Nov 2025) EndedAt: 2025-11-02 15:51:12 -0500 (Sun, 02 Nov 2025) EllapsedTime: 57.8 seconds RetCode: 0 Status: OK