Package: doubletrouble Version: 1.10.0 Command: /Library/Frameworks/R.framework/Resources/bin/R CMD build --keep-empty-dirs --no-resave-data doubletrouble StartedAt: 2025-11-02 16:55:42 -0500 (Sun, 02 Nov 2025) EndedAt: 2025-11-02 16:57:28 -0500 (Sun, 02 Nov 2025) EllapsedTime: 106.1 seconds RetCode: 0 Status: OK PackageFile: doubletrouble_1.10.0.tar.gz PackageFileSize: 5.035 MiB