Package: doubletrouble Version: 1.10.0 Command: rm -rf doubletrouble.buildbin-libdir && mkdir doubletrouble.buildbin-libdir && /Users/biocbuild/BBS/utils/build-universal.sh doubletrouble_1.10.0.tar.gz /Library/Frameworks/R.framework/Resources/bin/R doubletrouble.buildbin-libdir StartedAt: 2025-11-04 01:38:00 -0500 (Tue, 04 Nov 2025) EndedAt: 2025-11-04 01:38:58 -0500 (Tue, 04 Nov 2025) EllapsedTime: 57.5 seconds RetCode: 0 Status: OK PackageFile: doubletrouble_1.10.0.tgz PackageFileSize: 5.095 MiB