Package: doubletrouble Version: 1.9.1 Command: /Library/Frameworks/R.framework/Resources/bin/R CMD INSTALL doubletrouble StartedAt: 2025-10-26 15:27:14 -0400 (Sun, 26 Oct 2025) EndedAt: 2025-10-26 15:27:32 -0400 (Sun, 26 Oct 2025) EllapsedTime: 17.7 seconds RetCode: 0 Status: OK