Package: doubletrouble Version: 1.9.1 Command: /Library/Frameworks/R.framework/Resources/bin/R CMD build --keep-empty-dirs --no-resave-data doubletrouble StartedAt: 2025-10-26 16:18:44 -0400 (Sun, 26 Oct 2025) EndedAt: 2025-10-26 16:19:13 -0400 (Sun, 26 Oct 2025) EllapsedTime: 29.3 seconds RetCode: 0 Status: OK PackageFile: doubletrouble_1.9.1.tar.gz PackageFileSize: 5.036 MiB