Package: doubletrouble Version: 1.9.1 Command: rm -rf doubletrouble.buildbin-libdir && mkdir doubletrouble.buildbin-libdir && /Users/biocbuild/BBS/utils/build-universal.sh doubletrouble_1.9.1.tar.gz /Library/Frameworks/R.framework/Resources/bin/R doubletrouble.buildbin-libdir StartedAt: 2025-10-26 22:34:46 -0400 (Sun, 26 Oct 2025) EndedAt: 2025-10-26 22:35:03 -0400 (Sun, 26 Oct 2025) EllapsedTime: 16.4 seconds RetCode: 0 Status: OK PackageFile: doubletrouble_1.9.1.tgz PackageFileSize: 5.098 MiB