Package: doubletrouble Version: 1.10.0 Maintainer: Fabrício Almeida-Silva MaintainerEmail: fabricio_almeidasilva at hotmail.com git_url: https://git.bioconductor.org/packages/doubletrouble git_branch: RELEASE_3_22 git_last_commit: 555edc5 git_last_commit_date: 2025-10-29 11:20:05 -0500 (Wed, 29 Oct 2025)