Package: doseR Version: 1.25.0 Command: /home/biocbuild/bbs-3.22-bioc/R/bin/R CMD build --keep-empty-dirs --no-resave-data --md5 doseR StartedAt: 2025-10-24 17:33:54 -0400 (Fri, 24 Oct 2025) EndedAt: 2025-10-24 17:34:27 -0400 (Fri, 24 Oct 2025) EllapsedTime: 33.0 seconds RetCode: 0 Status: OK PackageFile: doseR_1.25.0.tar.gz PackageFileSize: 1.341 MiB