Package: doppelgangR Version: 1.38.0 Command: /home/biocbuild/bbs-3.22-bioc/R/bin/R CMD INSTALL doppelgangR StartedAt: 2025-11-17 17:25:14 -0500 (Mon, 17 Nov 2025) EndedAt: 2025-11-17 17:25:46 -0500 (Mon, 17 Nov 2025) EllapsedTime: 32.7 seconds RetCode: 0 Status: OK