Package: dominoSignal Version: 1.4.0 Command: /Library/Frameworks/R.framework/Resources/bin/R CMD build --keep-empty-dirs --no-resave-data dominoSignal StartedAt: 2025-10-29 22:37:10 -0400 (Wed, 29 Oct 2025) EndedAt: 2025-10-29 22:38:03 -0400 (Wed, 29 Oct 2025) EllapsedTime: 53.6 seconds RetCode: 0 Status: OK PackageFile: dominoSignal_1.4.0.tar.gz PackageFileSize: 1.075 MiB