Package: dominoSignal Version: 1.4.0 Command: rm -rf dominoSignal.buildbin-libdir && mkdir dominoSignal.buildbin-libdir && /Users/biocbuild/BBS/utils/build-universal.sh dominoSignal_1.4.0.tar.gz /Library/Frameworks/R.framework/Resources/bin/R dominoSignal.buildbin-libdir StartedAt: 2025-10-30 05:22:59 -0400 (Thu, 30 Oct 2025) EndedAt: 2025-10-30 05:23:10 -0400 (Thu, 30 Oct 2025) EllapsedTime: 11.2 seconds RetCode: 0 Status: OK PackageFile: dominoSignal_1.4.0.tgz PackageFileSize: 1.488 MiB