Package: dmrseq Version: 1.29.2 Command: /home/biocbuild/bbs-3.22-bioc/R/bin/R CMD INSTALL dmrseq StartedAt: 2025-10-27 15:44:46 -0400 (Mon, 27 Oct 2025) EndedAt: 2025-10-27 15:45:35 -0400 (Mon, 27 Oct 2025) EllapsedTime: 49.2 seconds RetCode: 0 Status: OK