Package: divergence Version: 1.25.0 Command: /home/biocbuild/bbs-3.22-bioc/R/bin/R CMD INSTALL divergence StartedAt: 2025-10-24 15:27:48 -0400 (Fri, 24 Oct 2025) EndedAt: 2025-10-24 15:28:08 -0400 (Fri, 24 Oct 2025) EllapsedTime: 19.5 seconds RetCode: 0 Status: OK