Package: dittoSeq Version: 1.21.1 Command: /home/biocbuild/bbs-3.22-bioc/R/bin/R CMD INSTALL dittoSeq StartedAt: 2025-10-27 15:26:08 -0400 (Mon, 27 Oct 2025) EndedAt: 2025-10-27 15:26:35 -0400 (Mon, 27 Oct 2025) EllapsedTime: 27.1 seconds RetCode: 0 Status: OK