Package: dittoSeq Version: 1.22.0 Command: /Library/Frameworks/R.framework/Resources/bin/R CMD INSTALL dittoSeq StartedAt: 2025-11-02 15:32:22 -0500 (Sun, 02 Nov 2025) EndedAt: 2025-11-02 15:32:59 -0500 (Sun, 02 Nov 2025) EllapsedTime: 36.7 seconds RetCode: 0 Status: OK