Package: dittoSeq Version: 1.22.0 Command: /Library/Frameworks/R.framework/Resources/bin/R CMD build --keep-empty-dirs --no-resave-data dittoSeq StartedAt: 2025-11-02 16:53:30 -0500 (Sun, 02 Nov 2025) EndedAt: 2025-11-02 16:56:05 -0500 (Sun, 02 Nov 2025) EllapsedTime: 155.1 seconds RetCode: 0 Status: OK PackageFile: dittoSeq_1.22.0.tar.gz PackageFileSize: 3.275 MiB