Package: dittoSeq Version: 1.21.1 Command: /Library/Frameworks/R.framework/Resources/bin/R CMD build --keep-empty-dirs --no-resave-data dittoSeq StartedAt: 2025-10-27 16:14:14 -0400 (Mon, 27 Oct 2025) EndedAt: 2025-10-27 16:15:08 -0400 (Mon, 27 Oct 2025) EllapsedTime: 53.6 seconds RetCode: 0 Status: OK PackageFile: dittoSeq_1.21.1.tar.gz PackageFileSize: 3.276 MiB