Package: dittoSeq Version: 1.21.1 Command: rm -rf dittoSeq.buildbin-libdir && mkdir dittoSeq.buildbin-libdir && /Users/biocbuild/BBS/utils/build-universal.sh dittoSeq_1.21.1.tar.gz /Library/Frameworks/R.framework/Resources/bin/R dittoSeq.buildbin-libdir StartedAt: 2025-10-27 23:00:33 -0400 (Mon, 27 Oct 2025) EndedAt: 2025-10-27 23:00:45 -0400 (Mon, 27 Oct 2025) EllapsedTime: 12.2 seconds RetCode: 0 Status: OK PackageFile: dittoSeq_1.21.1.tgz PackageFileSize: 2.803 MiB