Package: dittoSeq Version: 1.22.0 Maintainer: Daniel Bunis MaintainerEmail: daniel.bunis at ucsf.edu git_url: https://git.bioconductor.org/packages/dittoSeq git_branch: RELEASE_3_22 git_last_commit: d79c5f2 git_last_commit_date: 2025-10-29 10:57:12 -0500 (Wed, 29 Oct 2025)