Package: distinct Version: 1.21.1 Command: /home/biocbuild/bbs-3.22-bioc/R/bin/R CMD INSTALL distinct StartedAt: 2025-10-24 16:06:54 -0400 (Fri, 24 Oct 2025) EndedAt: 2025-10-24 16:08:03 -0400 (Fri, 24 Oct 2025) EllapsedTime: 69.0 seconds RetCode: 0 Status: OK