Package: distinct Version: 1.21.1 Command: /home/biocbuild/bbs-3.22-bioc/R/bin/R CMD build --keep-empty-dirs --no-resave-data --md5 distinct StartedAt: 2025-10-24 17:30:21 -0400 (Fri, 24 Oct 2025) EndedAt: 2025-10-24 17:34:21 -0400 (Fri, 24 Oct 2025) EllapsedTime: 240.2 seconds RetCode: 0 Status: OK PackageFile: distinct_1.21.1.tar.gz PackageFileSize: 1.821 MiB