Package: discordant Version: 1.33.0 Command: /home/biocbuild/bbs-3.22-bioc/R/bin/R CMD INSTALL discordant StartedAt: 2025-10-24 15:23:27 -0400 (Fri, 24 Oct 2025) EndedAt: 2025-10-24 15:23:39 -0400 (Fri, 24 Oct 2025) EllapsedTime: 11.5 seconds RetCode: 0 Status: OK