Package: discordant Version: 1.33.0 Command: /home/biocbuild/bbs-3.22-bioc/R/bin/R CMD build --keep-empty-dirs --no-resave-data --md5 discordant StartedAt: 2025-10-24 17:30:07 -0400 (Fri, 24 Oct 2025) EndedAt: 2025-10-24 17:30:48 -0400 (Fri, 24 Oct 2025) EllapsedTime: 41.0 seconds RetCode: 0 Status: OK PackageFile: discordant_1.33.0.tar.gz PackageFileSize: 476.8 KiB