Package: dinoR Version: 1.5.0 Command: /home/biocbuild/bbs-3.22-bioc/R/bin/R CMD build --keep-empty-dirs --no-resave-data --md5 dinoR StartedAt: 2025-10-24 17:29:45 -0400 (Fri, 24 Oct 2025) EndedAt: 2025-10-24 17:30:55 -0400 (Fri, 24 Oct 2025) EllapsedTime: 70.0 seconds RetCode: 0 Status: OK PackageFile: dinoR_1.5.0.tar.gz PackageFileSize: 3.231 MiB