Package: dinoR Version: 1.6.0 Command: /Library/Frameworks/R.framework/Resources/bin/R CMD INSTALL dinoR StartedAt: 2025-10-29 21:35:43 -0400 (Wed, 29 Oct 2025) EndedAt: 2025-10-29 21:35:55 -0400 (Wed, 29 Oct 2025) EllapsedTime: 11.6 seconds RetCode: 0 Status: OK