Package: dinoR Version: 1.6.0 Command: /Library/Frameworks/R.framework/Resources/bin/R CMD build --keep-empty-dirs --no-resave-data dinoR StartedAt: 2025-10-29 22:35:23 -0400 (Wed, 29 Oct 2025) EndedAt: 2025-10-29 22:35:51 -0400 (Wed, 29 Oct 2025) EllapsedTime: 28.3 seconds RetCode: 0 Status: OK PackageFile: dinoR_1.6.0.tar.gz PackageFileSize: 3.239 MiB