Package: dinoR Version: 1.5.0 Command: rm -rf dinoR.buildbin-libdir && mkdir dinoR.buildbin-libdir && /Users/biocbuild/BBS/utils/build-universal.sh dinoR_1.5.0.tar.gz /Library/Frameworks/R.framework/Resources/bin/R dinoR.buildbin-libdir StartedAt: 2025-10-28 22:57:43 -0400 (Tue, 28 Oct 2025) EndedAt: 2025-10-28 22:57:56 -0400 (Tue, 28 Oct 2025) EllapsedTime: 12.2 seconds RetCode: 0 Status: OK PackageFile: dinoR_1.5.0.tgz PackageFileSize: 3.086 MiB