Package: diggit Version: 1.41.0 Command: /home/biocbuild/bbs-3.22-bioc/R/bin/R CMD INSTALL diggit StartedAt: 2025-10-28 15:12:56 -0400 (Tue, 28 Oct 2025) EndedAt: 2025-10-28 15:13:09 -0400 (Tue, 28 Oct 2025) EllapsedTime: 12.9 seconds RetCode: 0 Status: OK