Package: diffuStats Version: 1.29.0 Command: /home/biocbuild/R/R/bin/R CMD build --keep-empty-dirs --no-resave-data diffuStats StartedAt: 2025-10-20 23:22:52 -0000 (Mon, 20 Oct 2025) EndedAt: 2025-10-20 23:23:40 -0000 (Mon, 20 Oct 2025) EllapsedTime: 48.0 seconds RetCode: 1 Status: ERROR PackageFile: None PackageFileSize: NA