Package: diffuStats Version: 1.29.0 Command: /home/biocbuild/bbs-3.22-bioc/R/bin/R CMD INSTALL diffuStats StartedAt: 2025-10-24 15:18:14 -0400 (Fri, 24 Oct 2025) EndedAt: 2025-10-24 15:18:44 -0400 (Fri, 24 Oct 2025) EllapsedTime: 29.5 seconds RetCode: 0 Status: OK